BEGIN:VCALENDAR
VERSION:2.0
PRODID:-//4lifeskills - ECPv6.15.20//NONSGML v1.0//EN
CALSCALE:GREGORIAN
METHOD:PUBLISH
X-ORIGINAL-URL:https://www.4lifeskills.org.au
X-WR-CALDESC:Events for 4lifeskills
REFRESH-INTERVAL;VALUE=DURATION:PT1H
X-Robots-Tag:noindex
X-PUBLISHED-TTL:PT1H
BEGIN:VTIMEZONE
TZID:Australia/Perth
BEGIN:STANDARD
TZOFFSETFROM:+0800
TZOFFSETTO:+0800
TZNAME:AWST
DTSTART:20230101T000000
END:STANDARD
END:VTIMEZONE
BEGIN:VEVENT
DTSTART;TZID=Australia/Perth:20240427T130000
DTEND;TZID=Australia/Perth:20240427T180000
DTSTAMP:20260423T043352
CREATED:20240320T044847Z
LAST-MODIFIED:20240320T050406Z
UID:1003-1714222800-1714240800@www.4lifeskills.org.au
SUMMARY:Friendship Hub (1st Year Anniversary)
DESCRIPTION:🎉 You’re Invited to Celebrate One Year of Friendship at HUB! 🎉 \nGet ready for a fantastic Saturday afternoon filled with games\, music\, and food as we mark one year of friendship at HUB! 🥳 \n🗓️ Date: 27th April 2024\, Saturday\n🕐 Time: 1:00pm – 6:00pm\n📍 Location: 83 Hamilton Road\, Spearwood\n💰 Cost: $10 \n🌟 What to Expect: \n\nActivities galore: Cornhole\, bingo\, silent disco\, dancing\, live DJ\, and karaoke!\nA place to make new friends\, have fun\, and enjoy the community spirit.\nCost: $10 (includes snacks and dinner)\nLimited spots available\, so RSVP by 12th April to secure your place!\nContact Leanne at lskewes@4lifeskills.org.au or 08 6118 8813 to RSVP or for more info.\nAccessible change room available on-site.\n\nJoin us for an unforgettable day of laughter\, camaraderie\, and celebration. Whether you’re coming solo or with friends\, everyone is welcome! 🎶🎲🍔 \nTickets are limited\, so book ASAP before they’re gone! *Disclaimer: Bookings will close early if tickets sell out prior to RSVP. \nCan’t wait to see you there! 🎈 \nDownload Flyer here: Friendship Hub Flyer (1st Anniversary) Flyer (Updated 20-03-2024) \nVisual Flyer for Reference:
URL:https://www.4lifeskills.org.au/event/friendship-hub-1st-year-anniversary/
LOCATION:83 Hamilton Road\, Spearwood WA 6163\, 83 Hamilton Road\, Spearwood\, WA\, 6163\, Australia
CATEGORIES:Community Events,Programs - West Area,Regular Programs
ATTACH;FMTTYPE=image/png:https://www.4lifeskills.org.au/wp-content/uploads/2024/03/Friendship-Hub-Event-Post.png
ORGANIZER;CN="Leanne Skewes":MAILTO:lskewes@4lifeskills.org.au
END:VEVENT
END:VCALENDAR