BEGIN:VCALENDAR
VERSION:2.0
PRODID:-//4lifeskills - ECPv6.15.20//NONSGML v1.0//EN
CALSCALE:GREGORIAN
METHOD:PUBLISH
X-WR-CALNAME:4lifeskills
X-ORIGINAL-URL:https://www.4lifeskills.org.au
X-WR-CALDESC:Events for 4lifeskills
REFRESH-INTERVAL;VALUE=DURATION:PT1H
X-Robots-Tag:noindex
X-PUBLISHED-TTL:PT1H
BEGIN:VTIMEZONE
TZID:Australia/Perth
BEGIN:STANDARD
TZOFFSETFROM:+0800
TZOFFSETTO:+0800
TZNAME:AWST
DTSTART:20230101T000000
END:STANDARD
END:VTIMEZONE
BEGIN:VEVENT
DTSTART;TZID=Australia/Perth:20241003T103000
DTEND;TZID=Australia/Perth:20241003T130000
DTSTAMP:20260424T203537
CREATED:20240805T222629Z
LAST-MODIFIED:20240807T040831Z
UID:1313-1727951400-1727960400@www.4lifeskills.org.au
SUMMARY:Shrek the Musical at The Crown Casino
DESCRIPTION:  \n \nShrek The Musical captures the essence of the beloved DreamWorks animated film\, bringing the characters you know and love to the stage with a fresh and exhilarating twist. Join us on an epic adventure to a faraway kingdom turned upside down.\nBased on the Academy Award winning animated film\, Shrek\, this hilarious story of everyone’s favourite ogre will be staged across Western Australia during the\nOctober. \nNDIS Funding will cover Cost of Support Staff and will be charged in line with NDIS Guidelines\, post event. \nOut of Pocket Expenses Apply for Purchase of Tickets and Refreshments.( Tickets from $60 ) \nRSVP Patricia on 0481 470 157 or email: pvilla@4lifeskills.org.au
URL:https://www.4lifeskills.org.au/event/shrek-the-musical-at-the-crown-casino/
LOCATION:Crown Casino\, Great Eastern Hwy\, Burswood\, WA\, 6100
CATEGORIES:Community Events
ATTACH;FMTTYPE=image/jpeg:https://www.4lifeskills.org.au/wp-content/uploads/2024/08/Shrek-The-Musical-Crown-Casino.jpg
END:VEVENT
END:VCALENDAR