BEGIN:VCALENDAR
VERSION:2.0
PRODID:-//4lifeskills - ECPv6.15.20//NONSGML v1.0//EN
CALSCALE:GREGORIAN
METHOD:PUBLISH
X-ORIGINAL-URL:https://www.4lifeskills.org.au
X-WR-CALDESC:Events for 4lifeskills
REFRESH-INTERVAL;VALUE=DURATION:PT1H
X-Robots-Tag:noindex
X-PUBLISHED-TTL:PT1H
BEGIN:VTIMEZONE
TZID:Australia/Perth
BEGIN:STANDARD
TZOFFSETFROM:+0800
TZOFFSETTO:+0800
TZNAME:AWST
DTSTART:20230101T000000
END:STANDARD
END:VTIMEZONE
BEGIN:VEVENT
DTSTART;TZID=Australia/Perth:20240817T163000
DTEND;TZID=Australia/Perth:20240817T220000
DTSTAMP:20260425T000700
CREATED:20240630T173136Z
LAST-MODIFIED:20240807T034456Z
UID:1249-1723912200-1723932000@www.4lifeskills.org.au
SUMMARY:Cirque Du Soleil LUZIA
DESCRIPTION:LUZIA is inspired by the people\, places\, and stories that define Mexico. Take a journey through a dream of Mexico\, from the folklore of old to the urban landscape of today. \nWith a surrealistic series of grand visual surprises and breathtaking acrobatic performances\, LUZIA cleverly brings to the stage multiple places\, faces and sounds of Mexico taken from both tradition and modernity. \nVenue under the Big Top\, Higham Car Park at Claremont Showground. \nSupport and travel costs will be invoiced to you/your NDIS after the event date. \nRSVP by August 5th\nFOR MORE INFO\, CONTACT LEANNE ON 0415364034 or email lskewes@4lifeskills.org.au
URL:https://www.4lifeskills.org.au/event/cirque-du-soleil-luzia/
LOCATION:Claremont Showground\, 1 Graylands Rd\, Claremont\, WA\, 6010
ATTACH;FMTTYPE=image/jpeg:https://www.4lifeskills.org.au/wp-content/uploads/2024/07/cirque-du-soleil2.jpg
ORGANIZER;CN="Leanne Skewes":MAILTO:lskewes@4lifeskills.org.au
END:VEVENT
END:VCALENDAR