BEGIN:VCALENDAR
VERSION:2.0
PRODID:-//4lifeskills - ECPv6.15.20//NONSGML v1.0//EN
CALSCALE:GREGORIAN
METHOD:PUBLISH
X-ORIGINAL-URL:https://www.4lifeskills.org.au
X-WR-CALDESC:Events for 4lifeskills
REFRESH-INTERVAL;VALUE=DURATION:PT1H
X-Robots-Tag:noindex
X-PUBLISHED-TTL:PT1H
BEGIN:VTIMEZONE
TZID:Australia/Perth
BEGIN:STANDARD
TZOFFSETFROM:+0800
TZOFFSETTO:+0800
TZNAME:AWST
DTSTART:20230101T000000
END:STANDARD
END:VTIMEZONE
BEGIN:VEVENT
DTSTART;TZID=Australia/Perth:20240404T153000
DTEND;TZID=Australia/Perth:20240404T183000
DTSTAMP:20260423T120810
CREATED:20240320T024243Z
LAST-MODIFIED:20240320T025048Z
UID:997-1712244600-1712255400@www.4lifeskills.org.au
SUMMARY:Gosnells Office Warming Celebration
DESCRIPTION:🎉 You’re Invited! 🎉 \nJoin us for a momentous occasion as we celebrate the official opening of our new office in Gosnells! 🏢✨ \n4lifeskills cordially invites you to mark this significant milestone in our journey of empowering individuals with disabilities across Western Australia. Our expansion into a larger\, more accessible space within the Gosnells Community Lotteries House reflects our steadfast dedication to providing comprehensive support services in a modern and inclusive environment. \nYour esteemed presence at this event would be an honour as we embark on this exciting chapter! Cost to go to the event is free. \n📅 Event Details:\n🗓️ Date: Thursday\, 4th April 2024\n🕒 Time: 3:30 PM – 6:30 PM\n📍 Location: 4lifeskills Gosnells – Suite 5\, 2232C Albany Hwy\, Gosnells WA 6110\n💲 Cost: Free \n(There are plenty of free parking in front of our building. Enter Gosnells Community Lotteries House and turn right on the ground floor and you will find our office). \n🌟 Highlights:\n🔍 Explore our inviting new space: Discover a comfortable and inclusive environment filled with opportunities for various activities.\n🤝 Uncover diverse support programs: Learn about the comprehensive services we offer across various disability levels within our 4lifeskills community.\n🗣️ Hear impactful testimonials: Witness the transformative power of our services through client and community success stories.\n💡 Explore collaboration opportunities: Discuss potential partnerships and initiatives to further empower individuals with disabilities.\n🎉Celebrate: Enjoy the space\, indulge in refreshments\, contribute ideas\, socialize\, and make unforgettable memories with us! Let’s make this event truly special together! \nWe believe your invaluable support is essential in solidifying our commitment to building a more inclusive and accessible future for all. Together\, let’s celebrate this significant achievement and pave the way for future collaborations that benefit the disability community. 🌈 \nWe look forward to seeing you there! RSVP today! 🎊\nRSVP Link: https://forms.gle/gLvRddzsv7hmMfxv6
URL:https://www.4lifeskills.org.au/event/gosnells-office-warming/
LOCATION:4lifeskills Gosnells Office\, Gosnells Community Lotteries House\, Suite 5\, 2232C Albany Hwy\,\, Gosnells\, Western Australia\, 6110\, Australia
CATEGORIES:Community Events
ATTACH;FMTTYPE=image/png:https://www.4lifeskills.org.au/wp-content/uploads/2024/03/Gosnells-Office-Warming-Invitation.png
ORGANIZER;CN="Casandra Chia":MAILTO:cchia@4lifeskills.org.au
END:VEVENT
END:VCALENDAR