BEGIN:VCALENDAR
VERSION:2.0
PRODID:-//4lifeskills - ECPv6.15.20//NONSGML v1.0//EN
CALSCALE:GREGORIAN
METHOD:PUBLISH
X-WR-CALNAME:4lifeskills
X-ORIGINAL-URL:https://www.4lifeskills.org.au
X-WR-CALDESC:Events for 4lifeskills
REFRESH-INTERVAL;VALUE=DURATION:PT1H
X-Robots-Tag:noindex
X-PUBLISHED-TTL:PT1H
BEGIN:VTIMEZONE
TZID:Australia/Perth
BEGIN:STANDARD
TZOFFSETFROM:+0800
TZOFFSETTO:+0800
TZNAME:AWST
DTSTART:20230101T000000
END:STANDARD
END:VTIMEZONE
BEGIN:VEVENT
DTSTART;TZID=Australia/Perth:20240605T100000
DTEND;TZID=Australia/Perth:20240605T111500
DTSTAMP:20260422T042113
CREATED:20240326T023304Z
LAST-MODIFIED:20240326T023304Z
UID:1063-1717581600-1717586100@www.4lifeskills.org.au
SUMMARY:Chair Yoga Course
DESCRIPTION:Find Your Zen with Chair Yoga! 10-Week Course (Open to the Public)\nLooking to improve your flexibility\, balance\, and overall well-being? Join our friendly and inclusive 10-week chair yoga course\, open to the public! Whether you’re a yoga newbie or a seasoned practitioner\, this course is designed to accommodate all levels. \nHere’s what you can expect: \n\nGentle yoga poses performed entirely from a chair (no need to get down on the floor!)\nIncreased flexibility\, balance\, and range of motion\nImproved strength and coordination\nStress reduction and relaxation\nA supportive and welcoming environment for all\n\nParticipation options: \n\nDrop-in: Join us for individual sessions at your convenience for $10 per person.\nFull Course: Commit to the entire 10-week course for a discounted rate of $7 per session (total cost: $70).\n\n \n 
URL:https://www.4lifeskills.org.au/event/chair-yoga-course-9/
LOCATION:83 Hamilton Road\, Spearwood WA 6163\, 83 Hamilton Road\, Spearwood\, WA\, 6163\, Australia
CATEGORIES:Programs - West Area,Regular Programs
ATTACH;FMTTYPE=image/png:https://www.4lifeskills.org.au/wp-content/uploads/2024/03/Chair-Yoga.png
ORGANIZER;CN="Leanne Skewes":MAILTO:lskewes@4lifeskills.org.au
END:VEVENT
END:VCALENDAR