BEGIN:VCALENDAR
VERSION:2.0
PRODID:-//4lifeskills - ECPv6.15.20//NONSGML v1.0//EN
CALSCALE:GREGORIAN
METHOD:PUBLISH
X-WR-CALNAME:4lifeskills
X-ORIGINAL-URL:https://www.4lifeskills.org.au
X-WR-CALDESC:Events for 4lifeskills
REFRESH-INTERVAL;VALUE=DURATION:PT1H
X-Robots-Tag:noindex
X-PUBLISHED-TTL:PT1H
BEGIN:VTIMEZONE
TZID:Australia/Perth
BEGIN:STANDARD
TZOFFSETFROM:+0800
TZOFFSETTO:+0800
TZNAME:AWST
DTSTART:20230101T000000
END:STANDARD
END:VTIMEZONE
BEGIN:VEVENT
DTSTART;TZID=Australia/Perth:20250126T163000
DTEND;TZID=Australia/Perth:20250126T210000
DTSTAMP:20260415T200526
CREATED:20241216T032348Z
LAST-MODIFIED:20241216T032348Z
UID:1674-1737909000-1737925200@www.4lifeskills.org.au
SUMMARY:Australia Day 2025 Rockingham
DESCRIPTION:Celebrate our nation with a special event for the whole community at the City’s iconic Rockingham Foreshore. \nThere will be something for everyone to enjoy\, including a fireworks display\, stage performances\, roaming entertainment\, children’s activities\, amusement rides\, food vendors and more. \nThis is a free\, non-ticketed event.  \nOut of pocket expenses will be food and drinks on the day.  \nSupports and transport will be invoiced to your NDIS/Plan Manager after the event has concluded. \nDate: Sunday 26th January 2025 \nVenue: Churchill Park and Bell Park\, Rockingham Foreshore \nTo Book your spot\, contact Lee 0481 159 590 lfletcher@4lifeskills.org.au \nEstimated pick up time 430pm drop off time 9pm depending on location
URL:https://www.4lifeskills.org.au/event/australia-day-2025-rockingham/
CATEGORIES:Community Events,Programs - South Area
END:VEVENT
BEGIN:VEVENT
DTSTART;TZID=Australia/Perth:20250115T130000
DTEND;TZID=Australia/Perth:20250115T130000
DTSTAMP:20260415T200526
CREATED:20241004T064749Z
LAST-MODIFIED:20241004T064848Z
UID:1558-1736946000-1736946000@www.4lifeskills.org.au
SUMMARY:Wicked @ Crown Theatre Perth
DESCRIPTION:Wicked @ Crown Theatre Perth\nThe Broadway sensation WICKED looks at what happened in the Land of Oz… but from a different angle. Long before Dorothy arrives\, there is another young woman\, born with emerald-green skin\, who is smart\, fiery\, misunderstood\, and possessing an extraordinary talent. When she meets a\, bubbly blonde who is exceptionally popular\, their initial rivalry turns into the unlikeliest of friendships… until the world decides to call one “good\,” and the other one “wicked.”\nTicket price will range from $75 to $110 each\, a deposit of $40 will be needed to purchase the ticket. Supports and transport will be invoiced to your NDIS/Plan manager after the event has concluded. \nRSVP and deposit due no later than Thursday 10th Oct 2024. \nTickets will be purchased Friday 11th Oct. \nWhen : 15th January 2025 at 1pm\nWhere : Crown Theatre Perth\nContact : Lee- 0481 159 590 lfletcher@4lifeksills.org.au or\nDeb – 0409 520 747 dnaughton@4lifeksills.org.au \nCLICK HERE TO VIEW FLYER
URL:https://www.4lifeskills.org.au/event/wicked-crown-theatre-perth/
LOCATION:Crown Theatre\, Great Eastern Hwy\, Burswood WA 6100\, Burswood\, Western Australia\, 6100\, Australia
CATEGORIES:Programs - South Area
ATTACH;FMTTYPE=image/png:https://www.4lifeskills.org.au/wp-content/uploads/2024/10/Picture5-rockingham.png
END:VEVENT
BEGIN:VEVENT
DTSTART;TZID=Australia/Perth:20241214T160000
DTEND;TZID=Australia/Perth:20241214T210000
DTSTAMP:20260415T200526
CREATED:20240908T231311Z
LAST-MODIFIED:20241115T013940Z
UID:1434-1734192000-1734210000@www.4lifeskills.org.au
SUMMARY:Rockingham Sunset Market
DESCRIPTION:Join us for a wander around the Markets to see what goodies we can find. Listen to live music while we wander the foreshore and grab a bite to eat.\nOut Of Pocket Costs: All food and drinks on the night.\nSupports and transport will be invoiced to your NDIS/Plan manager after the event has concluded. \nWhen :Saturday 14th December \nTime : Estimated 4pm pick up and 8:30/9pm drop off (dependent on your location) \nWhere :Bell Park Reserve\, Rockingham \nContact : lfletcher@4lifeksills.org.au or 0481 159 590 \n 
URL:https://www.4lifeskills.org.au/event/rockingham-sunset-market/
LOCATION:Bell Park Reserve\, Rockingham\, Bell Park Reserve\, Rockingham\, WA\, Australia
CATEGORIES:Community Events,Programs - South Area
ATTACH;FMTTYPE=image/png:https://www.4lifeskills.org.au/wp-content/uploads/2024/09/rocksunset.png
END:VEVENT
BEGIN:VEVENT
DTSTART;TZID=Australia/Perth:20241213T180000
DTEND;TZID=Australia/Perth:20241213T220000
DTSTAMP:20260415T200526
CREATED:20241115T022701Z
LAST-MODIFIED:20241115T022701Z
UID:1415-1734112800-1734127200@www.4lifeskills.org.au
SUMMARY:Kelete Events\, DAPAK and the Metropolis Nightclub Fremantle\, proudly    presents a night club night for persons with a disability
DESCRIPTION:Kelete Events\, DAPAK and the Metropolis Nightclub Fremantle\, proudly   \npresents a night club night for persons with a disability  \nFriday 13th of December 2024  \nMetropolis Fremantle  \n58 South Terrace\, Fremantle WA 6160  \n6pm – 10pm  \nFully Staffed\, safe\, and carefree  \nTickets available for $12:00 per person   \nWe will book at a table at The Sail and Anchor for dinner before the doors   \nopen at 6pm.  \nEstimated 330pm pick up and 1030pm drop off (dependent on your location)  \nOut Of Pocket Costs: All food and drinks on the night.  \nSupports and transport will be invoiced to your NDIS/Plan manager after the   \nevent has concluded.  \nPlease RSVP to Lee at lfletcher@4lifeskills.org.au or 0481 159 590 
URL:https://www.4lifeskills.org.au/event/kelete-events-dapak-and-the-metropolis-nightclub-fremantle-proudly-presents-a-night-club-night-for-persons-with-a-disability/
CATEGORIES:Community Events,Programs - South Area
ATTACH;FMTTYPE=image/png:https://www.4lifeskills.org.au/wp-content/uploads/2024/09/disco.png
END:VEVENT
BEGIN:VEVENT
DTSTART;TZID=Australia/Perth:20241213T170000
DTEND;TZID=Australia/Perth:20241213T213000
DTSTAMP:20260415T200526
CREATED:20241115T023547Z
LAST-MODIFIED:20241115T030941Z
UID:1635-1734109200-1734125400@www.4lifeskills.org.au
SUMMARY:EasyBeatz
DESCRIPTION:A Pathway for inclusion for people with disability who would like to make social connections in their local community. \n If you would like to attend please contact Lee. If you attend services on a Friday we can look at changing the day support to the evening\, if you don’t normally attend on a Friday we can look at swapping a day or having an extra day of support to attend. Please ensure you have current Photo ID to show on arrival to the event. \nEstimated 5pm pick up and 930pm/10pm drop off (dependent on your location) \nCost of the ticket is $14\, payment to be made to Lee before the night to purchase the tickets \nOut Of Pocket Costs: All food and drinks on the night. \nSupports and transport will be invoiced to your NDIS/Plan manager after the event has concluded. \nPlease RSVP to Lee at lfletcher@4lifeskills.org.au or 0481 159 590   
URL:https://www.4lifeskills.org.au/event/easybeatz-2/
CATEGORIES:Programs - South Area
ATTACH;FMTTYPE=image/jpeg:https://www.4lifeskills.org.au/wp-content/uploads/2024/11/EasyBeatz.jpg
END:VEVENT
BEGIN:VEVENT
DTSTART;TZID=Australia/Perth:20241206T170000
DTEND;TZID=Australia/Perth:20241206T210000
DTSTAMP:20260415T200526
CREATED:20241115T021655Z
LAST-MODIFIED:20241115T030452Z
UID:1628-1733504400-1733518800@www.4lifeskills.org.au
SUMMARY:Christmas Lights Launch
DESCRIPTION:Christmas Lights Launch  \n \nEVENT DESCRIPTION :\nRockingham Foreshore will light up at the official launch of the City’s Christmas lights display.\nThere will be lots of festive fun for the whole family\, including a visit from Santa\, stage performances\, roaming entertainment\, children’s activities\, market stalls\, a low-sensory chill out zone\, food vendors and the turning on of the Christmas lights at 8pm. \nEvent Details \nDate: 6th December 2024 \nTime: Estimated Pick Up 5pm and Drop off 9pm depending on your location \nLocation: Churchill Park Rockingham \nContact: Lee Fletcher 0481 159 590 or lfletcher@4lifeskills.org.au \n 
URL:https://www.4lifeskills.org.au/event/christmas-lights-launch/
CATEGORIES:Community Events,Programs - South Area
ATTACH;FMTTYPE=image/png:https://www.4lifeskills.org.au/wp-content/uploads/2024/11/Christmas-Lights.png
END:VEVENT
BEGIN:VEVENT
DTSTART;TZID=Australia/Perth:20241031T100000
DTEND;TZID=Australia/Perth:20241031T140000
DTSTAMP:20260415T200526
CREATED:20240908T234816Z
LAST-MODIFIED:20240908T234851Z
UID:1447-1730368800-1730383200@www.4lifeskills.org.au
SUMMARY:Halloween Crawl by 4lifeskills Inc
DESCRIPTION:Join us for a Spooktacular Halloween Event on the 31st October!\nCost : $15 Per Person ( Tickets cover food\, drinks and activities) \nSupport costs will be charged in line with NDIS price guide and will be claimed after the event has occured. \nRSVP by 23rd October and prebook your Tickets as they sell fast!!! \nVenue : Yangebup Community Centre\, 20 Swallow Dr\, Yangebup \nContact : Your Area Manager or call us on 1300 100 767 or emails – admin@4lifeskills.org.au for more info! \n 
URL:https://www.4lifeskills.org.au/event/halloween-crawl-by-4lifeskills-inc/
LOCATION:Yangebup Community Centre\, 20 Swallow Dr\, Yangebup\, Western Australia\, 6164\, Australia
CATEGORIES:Community Events,Programs - East Area,Programs - South Area,Programs - West Area
ATTACH;FMTTYPE=image/png:https://www.4lifeskills.org.au/wp-content/uploads/2024/09/ha.png
END:VEVENT
BEGIN:VEVENT
DTSTART;TZID=Australia/Perth:20241025T170000
DTEND;TZID=Australia/Perth:20241025T210000
DTSTAMP:20260415T200526
CREATED:20241004T062457Z
LAST-MODIFIED:20241004T062457Z
UID:1544-1729875600-1729890000@www.4lifeskills.org.au
SUMMARY:Rockingham Navy Club Dinner
DESCRIPTION:Rockingham Navy Club Dinner – Dinner and Ice Cream evening\nJoin us for dinner at the Rockingham Navy Club and then an ice cream and stroll on the foreshore now Spring is here! \nThe Navy Club offers cheap meals every Friday night with their menu being advertised through the week leading up to the night. \nMeals range from $18 to $25 each. \nThey also offer raffles on the night. Dress code is Neat Casual. \nOut of pocket costs: All food and drinks on the night. Supports and transport will be invoiced to your NDIS/Plan Manager after the event has concluded. \nWhen : Friday 25th October from 5pm to 9pm\nWhere : Rockingham Navy Club\nContact : Lee 0481 159 590 lfletcher@4lifeskills.org.au\nDeb 0409 520 7474 dnaughton@4lifeskills.org.au \nCLICK HERE TO VIEW FLYER
URL:https://www.4lifeskills.org.au/event/rockingham-navy-club-dinner/
LOCATION:Rockingham Navy Club\, Point Peron Road\, Rockingham\, Western Australia\, 6168\, Australia
CATEGORIES:Programs - South Area
ATTACH;FMTTYPE=image/jpeg:https://www.4lifeskills.org.au/wp-content/uploads/2024/10/rockingham-navy-image.jpg
END:VEVENT
BEGIN:VEVENT
DTSTART;TZID=Australia/Perth:20241017T100000
DTEND;TZID=Australia/Perth:20241121T140000
DTSTAMP:20260415T200526
CREATED:20241004T054508Z
LAST-MODIFIED:20241004T054508Z
UID:1517-1729159200-1732197600@www.4lifeskills.org.au
SUMMARY:5 Week Healthy Cooking Program
DESCRIPTION:Come and join us for a 5 week cooking course\, Thursdays 17th Oct through to Thursday 21st Nov held at Rockingham Lotteries House.\nEveryone welcome\, no skills required to join.\nOut of pocket costs: $100 for the program to include lunch and all ingredients each week. Supports and transport\, if applicable\, will be invoiced to your NDIS/Plan Manager after each session has concluded. \nWhen : Every Thursday from 17th Oct – 21st Nov from 10am – 2pm\nWhere : Rockingham Lotteries House\nContact : Deb Naughton – 0409 520 747 or dnaughton@4lifeskills.org.au \nCLICK HERE FOR FLYER
URL:https://www.4lifeskills.org.au/event/https-www-4lifeskills-org-au-wp-content-uploads-2024-10-5-week-cooking-program-1-south-pdf/
LOCATION:Rockingham Lotteries House\, Unit 27/6 Civic Blvd\,\, Rockingham\, WA\, 6168\, Australia
CATEGORIES:Programs - South Area
ATTACH;FMTTYPE=image/png:https://www.4lifeskills.org.au/wp-content/uploads/2024/10/5week-Cooking-Programme-South.png
END:VEVENT
BEGIN:VEVENT
DTSTART;VALUE=DATE:20240921
DTEND;VALUE=DATE:20240929
DTSTAMP:20260415T200526
CREATED:20240908T225248Z
LAST-MODIFIED:20240908T225248Z
UID:1419-1726876800-1727567999@www.4lifeskills.org.au
SUMMARY:Perth Royal Show
DESCRIPTION:  \n \nThis year\, the Perth Royal Show is back and better than ever\, and we’re thrilled to announce that children can attend for FREE and adults are half-price\, thanks to the generous support of the Western Australian Government! Get ready for an elevated experi-ence at this year’s Perth Royal Show! Marvel at the most spec-tacular pyrotechnic show in our history\, explore brand-new desig-nated precincts\, and enjoy return-ing favourites like the Yellow Brick Road. Please advise what day you would like to attend. \nDate : 21st – 28th Sept 2024\nTime : During normal support days – hours to be extended if required\nVenue :Claremont Show Grounds\nContact :Lee: lfletcher@4lifeskills.org.au or 0481 159 590
URL:https://www.4lifeskills.org.au/event/perth-royal-show/
LOCATION:Claremont Showground\, 1 Graylands Rd\, Claremont\, WA\, 6010
CATEGORIES:Community Events,Programs - South Area
ATTACH;FMTTYPE=image/png:https://www.4lifeskills.org.au/wp-content/uploads/2024/09/PRT1.png
END:VEVENT
END:VCALENDAR